#------------------------------------------------------------------------------
#$Date: 2016-02-13 21:28:24 +0200 (Sat, 13 Feb 2016) $
#$Revision: 176429 $
#$URL: svn://www.crystallography.net/cod/cif/1/52/26/1522684.cif $
#------------------------------------------------------------------------------
#
# This file is available in the Crystallography Open Database (COD),
# http://www.crystallography.net/
#
# All data on this site have been placed in the public domain by the
# contributors.
#
data_1522684
loop_
_publ_author_name
'Pecharskii, V.K.'
'Pankevich, Yu.V.'
'Bodak, O.I.'
_publ_section_title
;
 Crystal structures of the compounds R Ni Sb with various rare earth
 elements
;
_journal_name_full               Kristallografiya
_journal_page_first              173
_journal_page_last               174
_journal_volume                  28
_journal_year                    1983
_chemical_formula_sum            'Ni Pr Sb'
_chemical_name_systematic        '(Ni Sb) Pr'
_space_group_IT_number           191
_symmetry_space_group_name_Hall  '-P 6 2'
_symmetry_space_group_name_H-M   'P 6/m m m'
_cell_angle_alpha                90
_cell_angle_beta                 90
_cell_angle_gamma                120
_cell_formula_units_Z            1
_cell_length_a                   4.376
_cell_length_b                   4.376
_cell_length_c                   4.053
_cell_volume                     67.214
_citation_journal_id_ASTM        KRISAJ
_cod_data_source_file            Pecharskii_KRISAJ_1983_1458.cif
_cod_data_source_block           Ni1Pr1Sb1
_cod_original_cell_volume        67.21432
_cod_original_formula_sum        'Ni1 Pr1 Sb1'
_cod_database_code               1522684
loop_
_symmetry_equiv_pos_as_xyz
x,y,z
x-y,x,z
-y,x-y,z
-x,-y,z
-x+y,-x,z
y,-x+y,z
-y,-x,-z
x-y,-y,-z
x,x-y,-z
y,x,-z
-x+y,y,-z
-x,-x+y,-z
-x,-y,-z
-x+y,-x,-z
y,-x+y,-z
x,y,-z
x-y,x,-z
-y,x-y,-z
y,x,z
-x+y,y,z
-x,-x+y,z
-y,-x,z
x-y,-y,z
x,x-y,z
loop_
_atom_site_label
_atom_site_type_symbol
_atom_site_fract_x
_atom_site_fract_y
_atom_site_fract_z
_atom_site_occupancy
_atom_site_U_iso_or_equiv
Ni1 Ni 0.3333 0.6667 0.5 0.5 0.0
Sb1 Sb 0.3333 0.6667 0.5 0.5 0.0
Pr1 Pr 0 0 0 1 0.0
