data_3000590
loop_
_publ_author_name
'Sasaki, Toshiyuki'
'Nakane, Takanori'
'Takimoto, Kazuyoshi'
'Ichiyanagi, Kouhei'
'Mori, Yuki'
'Baba, Seiki'
'Sakai, Naoki'
'Kurisu, Genji'
'Miyata, Mikiji'
'Uno, Takahiro'
'Itoh, Takahito'
_journal_name_full               'To be published'
_chemical_formula_sum            'C16 H16 O8'
_space_group_name_Hall           '-P 2yn'
_space_group_name_H-M_alt        'P 1 21/n 1'
_cell_angle_alpha                90
_cell_angle_beta                 101.63
_cell_angle_gamma                90
_cell_length_a                   8.756
_cell_length_b                   6.805
_cell_length_c                   12.430
_cell_measurement_temperature    100(2)
_cell_volume                     725.431
_diffrn_ambient_temperature      100(2)
_diffrn_radiation_type           synchrotron
_diffrn_radiation_wavelength     0.700
_refine_ls_goodness_of_fit_ref   0.958
_refine_ls_R_factor_all          0.0938
_refine_ls_R_factor_gt           0.0700
_refine_ls_wR_factor_gt          0.1805
_refine_ls_wR_factor_ref         0.1898
_cod_database_code               3000590
_cod_hold_until_date             2025-08-28
_cod_depositor_requested_release_date 2025-08-28
loop_
_atom_site_label
_atom_site_fract_x
_atom_site_fract_y
_atom_site_fract_z
? ? ? ?
