#------------------------------------------------------------------------------
#$Date: 2019-11-17 12:51:28 +0200 (Sun, 17 Nov 2019) $
#$Revision: 229974 $
#$URL: file:///home/coder/svn-repositories/cod/cif/7/04/67/7046743.cif $
#------------------------------------------------------------------------------
#
# This file is available in the Crystallography Open Database (COD),
# http://www.crystallography.net/
#
# All data on this site have been placed in the public domain by the
# contributors.
#
data_7046743
loop_
_publ_author_name
'Liu, Shu'
'Wang, Bing-Wu'
'Wang, Zhe-Ming'
'Gao, Song'
_publ_section_title
;
 Magnetic layered perovskites of
 [CH₃C(NH₂)₂]₂[M(HCOO)₄]
 (M = Co²⁺ and Ni²⁺): synthesis, structures and
 properties.
;
_journal_issue                   34
_journal_name_full
'Dalton transactions (Cambridge, England : 2003)'
_journal_page_first              11925
_journal_page_last               11933
_journal_paper_doi               10.1039/c8dt01729h
_journal_volume                  47
_journal_year                    2018
_chemical_formula_sum            'C8 H18 Co N4 O8'
_chemical_formula_weight         357.19
_space_group_IT_number           56
_space_group_name_Hall           '-P 2ab 2ac'
_space_group_name_H-M_alt        'P c c n'
_symmetry_cell_setting           orthorhombic
_symmetry_space_group_name_Hall  '-P 2ab 2ac'
_symmetry_space_group_name_H-M   'P c c n'
_atom_sites_solution_hydrogens   geom
_atom_sites_solution_primary     direct
_atom_sites_solution_secondary   difmap
_audit_creation_method           SHELXL-97
_audit_update_record
;
2018-05-01 deposited with the CCDC.
2018-06-15 downloaded from the CCDC.
;
_cell_angle_alpha                90.00
_cell_angle_beta                 90.00
_cell_angle_gamma                90.00
_cell_formula_units_Z            4
_cell_length_a                   7.8811(2)
_cell_length_b                   22.0928(6)
_cell_length_c                   8.5825(2)
_cell_measurement_reflns_used    5864
_cell_measurement_temperature    290.0
_cell_measurement_theta_max      76.5200
_cell_measurement_theta_min      7.8940
_cell_volume                     1494.35(7)
_computing_cell_refinement
'CrysAlisPro (Rigaku Oxford Diffraction, 2017)'
_computing_data_collection
'CrysAlisPro (Rigaku Oxford Diffraction, 2017)'
_computing_data_reduction
'CrysAlisPro (Rigaku Oxford Diffraction, 2017)'
_computing_molecular_graphics    'Bruker SHELXTL V5.1 (Sheldrick, 1998)'
_computing_publication_material  'SHELXL-97 (Sheldrick, 1997)'
_computing_structure_refinement  'SHELXL-97 (Sheldrick, 1997)'
_computing_structure_solution    'SHELXS-97 (Sheldrick, 1990)'
_diffrn_ambient_temperature      290.0
_diffrn_detector_area_resol_mean 10.3914
_diffrn_measured_fraction_theta_full 0.986
_diffrn_measured_fraction_theta_max 0.986
_diffrn_measurement_device_type  'SuperNova, Dual, Cu at zero, AtlasCCD'
_diffrn_measurement_method       'ω scans'
_diffrn_radiation_monochromator  mirror
_diffrn_radiation_source         'SuperNova (Cu) X-ray Source'
_diffrn_radiation_type           CuK\a
_diffrn_radiation_wavelength     1.54184
_diffrn_reflns_av_R_equivalents  0.0415
_diffrn_reflns_av_sigmaI/netI    0.0151
_diffrn_reflns_limit_h_max       9
_diffrn_reflns_limit_h_min       -9
_diffrn_reflns_limit_k_max       24
_diffrn_reflns_limit_k_min       -26
_diffrn_reflns_limit_l_max       10
_diffrn_reflns_limit_l_min       -10
_diffrn_reflns_number            21070
_diffrn_reflns_theta_full        76.51
_diffrn_reflns_theta_max         76.51
_diffrn_reflns_theta_min         4.00
_diffrn_standards_decay_%        0
_exptl_absorpt_coefficient_mu    9.437
_exptl_absorpt_correction_T_max  0.562
_exptl_absorpt_correction_T_min  0.318
_exptl_absorpt_correction_type   gaussian
_exptl_absorpt_process_details
;
CrysAlisPro 1.171.39.35c (Rigaku Oxford Diffraction, 2017)
Numerical absorption correction based on gaussian integration over
a multifaceted crystal model
;
_exptl_crystal_colour            purple-red
_exptl_crystal_density_diffrn    1.588
_exptl_crystal_density_method    'not measured'
_exptl_crystal_description       block
_exptl_crystal_F_000             740
_exptl_crystal_size_max          0.174
_exptl_crystal_size_mid          0.156
_exptl_crystal_size_min          0.093
_refine_diff_density_max         0.219
_refine_diff_density_min         -0.288
_refine_diff_density_rms         0.046
_refine_ls_extinction_coef       0.00042(10)
_refine_ls_extinction_expression Fc^*^=kFc[1+0.001xFc²λ³/sin(2θ)]^-1/4^
_refine_ls_extinction_method     SHELXL
_refine_ls_goodness_of_fit_ref   1.003
_refine_ls_hydrogen_treatment    constr.
_refine_ls_matrix_type           full
_refine_ls_number_parameters     99
_refine_ls_number_reflns         1552
_refine_ls_number_restraints     0
_refine_ls_restrained_S_all      1.003
_refine_ls_R_factor_all          0.0342
_refine_ls_R_factor_gt           0.0271
_refine_ls_shift/su_max          0.006
_refine_ls_shift/su_mean         0.000
_refine_ls_structure_factor_coef Fsqd
_refine_ls_weighting_details
'calc w=1/[σ²(Fo²)+(0.0407P)²+0.8345P] where P=(Fo²+2Fc²)/3'
_refine_ls_weighting_scheme      calc
_refine_ls_wR_factor_gt          0.0720
_refine_ls_wR_factor_ref         0.0770
_reflns_number_gt                1306
_reflns_number_total             1552
_reflns_threshold_expression     >2sigma(I)
_cod_data_source_file            c8dt01729h2.cif
_cod_data_source_block           1Co-290K
_cod_depositor_comments
;
The following automatic conversions were performed:

'_symmetry_cell_setting' value 'Orthorhombic' changed to
'orthorhombic' according to
/home/data/users/saulius/crontab/automatic-downloads/rss-feeds/RSC/lib/dictionaries/cif_core.dic
dictionary named 'cif_core.dic' version 2.4.2 from 2011-04-26.

Automatic conversion script
Id: cif_fix_values 4973 2017-02-22 13:04:09Z antanas 

 Adding full bibliography for 7046733--7046752.cif.
;
_cod_original_sg_symbol_H-M      'P ccn'
_cod_database_code               7046743
loop_
_symmetry_equiv_pos_as_xyz
'x, y, z'
'-x+1/2, -y+1/2, z'
'-x, y+1/2, -z+1/2'
'x+1/2, -y, -z+1/2'
'-x, -y, -z'
'x-1/2, y-1/2, -z'
'x, -y-1/2, z-1/2'
'-x-1/2, y, z-1/2'
loop_
_atom_site_label
_atom_site_type_symbol
_atom_site_fract_x
_atom_site_fract_y
_atom_site_fract_z
_atom_site_U_iso_or_equiv
_atom_site_adp_type
_atom_site_occupancy
_atom_site_symmetry_multiplicity
_atom_site_calc_flag
_atom_site_refinement_flags
Co1 Co 0.0000 0.0000 0.0000 0.01971(13) Uani 1 2 d S
O1 O 0.06951(15) -0.02556(6) 0.22746(13) 0.0275(3) Uani 1 1 d .
O2 O 0.25016(16) -0.01713(6) 0.42446(14) 0.0310(3) Uani 1 1 d .
O3 O 0.04824(19) 0.08986(6) 0.06696(15) 0.0354(3) Uani 1 1 d .
O4 O 0.0793(3) 0.18763(7) 0.0270(2) 0.0626(5) Uani 1 1 d .
C1 C 0.1973(2) -0.00342(7) 0.29141(19) 0.0259(4) Uani 1 1 d .
H1 H 0.2582 0.0255 0.2360 0.031 Uiso 1 1 calc R
C2 C 0.0853(3) 0.13423(9) -0.0140(2) 0.0399(5) Uani 1 1 d .
H2 H 0.1211 0.1266 -0.1153 0.048 Uiso 1 1 calc R
C3 C -0.0487(3) 0.15879(9) 0.4390(2) 0.0368(4) Uani 1 1 d .
C4 C -0.0943(4) 0.17078(11) 0.6041(3) 0.0628(8) Uani 1 1 d .
H4A H -0.2005 0.1920 0.6082 0.094 Uiso 1 1 calc R
H4B H -0.0075 0.1950 0.6517 0.094 Uiso 1 1 calc R
H4C H -0.1042 0.1331 0.6590 0.094 Uiso 1 1 calc R
N1 N -0.0778(2) 0.10558(7) 0.3812(2) 0.0406(4) Uani 1 1 d .
H1A H -0.0528 0.0981 0.2856 0.049 Uiso 1 1 calc R
H1B H -0.1220 0.0778 0.4384 0.049 Uiso 1 1 calc R
N2 N 0.0183(3) 0.20225(8) 0.3560(2) 0.0480(5) Uani 1 1 d .
H2A H 0.0445 0.1960 0.2601 0.058 Uiso 1 1 calc R
H2B H 0.0363 0.2371 0.3973 0.058 Uiso 1 1 calc R
loop_
_atom_site_aniso_label
_atom_site_aniso_U_11
_atom_site_aniso_U_22
_atom_site_aniso_U_33
_atom_site_aniso_U_23
_atom_site_aniso_U_13
_atom_site_aniso_U_12
Co1 0.0212(2) 0.0226(2) 0.01534(19) -0.00016(13) 0.00035(13) 0.00029(14)
O1 0.0262(6) 0.0353(7) 0.0208(5) 0.0028(5) -0.0047(5) -0.0029(5)
O2 0.0266(6) 0.0449(7) 0.0215(5) 0.0043(5) -0.0047(5) -0.0052(6)
O3 0.0531(8) 0.0249(6) 0.0282(6) -0.0014(5) 0.0014(6) -0.0030(6)
O4 0.1140(16) 0.0259(8) 0.0481(9) 0.0012(7) 0.0178(10) -0.0017(9)
C1 0.0242(8) 0.0305(9) 0.0230(8) 0.0024(6) -0.0009(7) -0.0006(6)
C2 0.0585(14) 0.0298(11) 0.0313(10) 0.0017(7) 0.0049(9) -0.0005(9)
C3 0.0463(10) 0.0329(10) 0.0311(9) 0.0002(8) -0.0010(9) 0.0014(8)
C4 0.109(2) 0.0433(13) 0.0357(12) -0.0061(9) 0.0137(13) -0.0068(14)
N1 0.0582(11) 0.0320(9) 0.0317(8) -0.0030(6) 0.0056(8) -0.0084(8)
N2 0.0765(14) 0.0301(9) 0.0374(10) -0.0020(7) 0.0072(9) -0.0072(8)
loop_
_atom_type_symbol
_atom_type_description
_atom_type_scat_dispersion_real
_atom_type_scat_dispersion_imag
_atom_type_scat_source
C C 0.0181 0.0091 'International Tables Vol C Tables 4.2.6.8 and 6.1.1.4'
H H 0.0000 0.0000 'International Tables Vol C Tables 4.2.6.8 and 6.1.1.4'
N N 0.0311 0.0180 'International Tables Vol C Tables 4.2.6.8 and 6.1.1.4'
O O 0.0492 0.0322 'International Tables Vol C Tables 4.2.6.8 and 6.1.1.4'
Co Co -2.3653 3.6143 'International Tables Vol C Tables 4.2.6.8 and 6.1.1.4'
loop_
_geom_angle_atom_site_label_1
_geom_angle_atom_site_label_2
_geom_angle_atom_site_label_3
_geom_angle
_geom_angle_site_symmetry_1
_geom_angle_site_symmetry_3
O3 Co1 O3 180.00(7) 5 .
O3 Co1 O1 92.71(5) 5 .
O3 Co1 O1 87.29(5) . .
O3 Co1 O1 87.29(5) 5 5
O3 Co1 O1 92.71(5) . 5
O1 Co1 O1 180.00(7) . 5
O3 Co1 O2 85.14(5) 5 8_655
O3 Co1 O2 94.86(5) . 8_655
O1 Co1 O2 89.65(5) . 8_655
O1 Co1 O2 90.35(5) 5 8_655
O3 Co1 O2 94.86(5) 5 4_455
O3 Co1 O2 85.14(5) . 4_455
O1 Co1 O2 90.35(5) . 4_455
O1 Co1 O2 89.65(5) 5 4_455
O2 Co1 O2 180.0 8_655 4_455
C1 O1 Co1 120.88(11) . .
C1 O2 Co1 123.20(11) . 4
C2 O3 Co1 129.66(13) . .
O1 C1 O2 125.09(16) . .
O1 C1 H1 117.5 . .
O2 C1 H1 117.5 . .
O4 C2 O3 126.14(19) . .
O4 C2 H2 116.9 . .
O3 C2 H2 116.9 . .
N1 C3 N2 121.92(19) . .
N1 C3 C4 118.97(19) . .
N2 C3 C4 119.11(19) . .
C3 C4 H4A 109.5 . .
C3 C4 H4B 109.5 . .
H4A C4 H4B 109.5 . .
C3 C4 H4C 109.5 . .
H4A C4 H4C 109.5 . .
H4B C4 H4C 109.5 . .
C3 N1 H1A 120.0 . .
C3 N1 H1B 120.0 . .
H1A N1 H1B 120.0 . .
C3 N2 H2A 120.0 . .
C3 N2 H2B 120.0 . .
H2A N2 H2B 120.0 . .
loop_
_geom_bond_atom_site_label_1
_geom_bond_atom_site_label_2
_geom_bond_distance
_geom_bond_site_symmetry_2
Co1 O3 2.1014(13) 5
Co1 O3 2.1014(13) .
Co1 O1 2.1047(11) .
Co1 O1 2.1047(11) 5
Co1 O2 2.1073(12) 8_655
Co1 O2 2.1073(12) 4_455
O1 C1 1.247(2) .
O2 C1 1.253(2) .
O2 Co1 2.1073(12) 4
O3 C2 1.236(2) .
O4 C2 1.232(3) .
C1 H1 0.9300 .
C2 H2 0.9300 .
C3 N1 1.296(3) .
C3 N2 1.307(3) .
C3 C4 1.485(3) .
C4 H4A 0.9600 .
C4 H4B 0.9600 .
C4 H4C 0.9600 .
N1 H1A 0.8600 .
N1 H1B 0.8600 .
N2 H2A 0.8600 .
N2 H2B 0.8600 .
loop_
_geom_hbond_atom_site_label_D
_geom_hbond_atom_site_label_H
_geom_hbond_atom_site_label_A
_geom_hbond_distance_DH
_geom_hbond_distance_HA
_geom_hbond_distance_DA
_geom_hbond_angle_DHA
_geom_hbond_site_symmetry_A
C1 H1 O1 0.93 2.47 3.007(2) 116.5 4
C4 H4C O1 0.96 2.58 3.525(3) 167.0 5_556
N1 H1A O3 0.86 2.05 2.895(2) 168.8 .
N1 H1B O2 0.86 2.05 2.906(2) 173.9 5_556
N2 H2A O4 0.86 2.03 2.882(3) 172.6 .
N2 H2B O4 0.86 2.03 2.882(3) 171.0 7_566
