#------------------------------------------------------------------------------
#$Date: 2016-02-16 03:10:39 +0200 (Tue, 16 Feb 2016) $
#$Revision: 176453 $
#$URL: svn://www.crystallography.net/cod/cif/7/11/56/7115665.cif $
#------------------------------------------------------------------------------
#
# This file is available in the Crystallography Open Database (COD),
# http://www.crystallography.net/
#
# All data on this site have been placed in the public domain by the
# contributors.
#
data_7115665
loop_
_publ_author_name
'William P. Unsworth'
'Nicola Clark'
'Thomas O. Ronson'
'Kiri Stevens'
'Amber L. Thompson'
'Scott G. Lamont'
'Jeremy Robertson'
_publ_section_title
;
 Rhodium(II)-catalysed tandem aziridination and ring-opening:
 stereoselective synthesis of functionalised tetrahydrofurans
;
_journal_name_full               Chem.Commun.
_journal_page_first              11393
_journal_paper_doi               10.1039/C4cc05159A
_journal_volume                  50
_journal_year                    2014
_chemical_absolute_configuration unk
_chemical_formula_moiety         'C10 H15 N1 O5'
_chemical_formula_sum            'C10 H15 N O5'
_chemical_formula_weight         229.23
_chemical_melting_point          ?
_space_group_IT_number           19
_symmetry_cell_setting           orthorhombic
_symmetry_space_group_name_Hall  'P 2ac 2ab'
_symmetry_space_group_name_H-M   'P 21 21 21'
_atom_sites_solution_hydrogens   difmap
_atom_sites_solution_primary     other
_audit_creation_date             14-07-04
_audit_creation_method           CRYSTALS_ver_14.40
_cell_angle_alpha                90
_cell_angle_beta                 90
_cell_angle_gamma                90
_cell_formula_units_Z            4
_cell_length_a                   5.7625(2)
_cell_length_b                   8.6145(3)
_cell_length_c                   21.3435(8)
_cell_measurement_reflns_used    1400
_cell_measurement_temperature    150
_cell_measurement_theta_max      27
_cell_measurement_theta_min      5
_cell_volume                     1059.51(7)
_computing_cell_refinement       'DENZO/SCALEPACK (Otwinowski & Minor, 1997)'
_computing_data_collection       'COLLECT (Nonius, 2001).'
_computing_data_reduction        'DENZO/SCALEPACK (Otwinowski & Minor, 1997)'
_computing_molecular_graphics    'CAMERON (Watkin et al., 1996)'
_computing_publication_material  'CRYSTALS (Betteridge et al., 2003)'
_computing_structure_refinement  'CRYSTALS (Betteridge et al., 2003)'
_computing_structure_solution    'Superflip (Palatinus & Chapuis, 2007)'
_diffrn_ambient_temperature      150
_diffrn_measured_fraction_theta_full 0.988
_diffrn_measured_fraction_theta_max 0.988
_diffrn_measurement_device       Area
_diffrn_measurement_device_type  'Nonius KappaCCD'
_diffrn_measurement_method       ω
_diffrn_radiation_monochromator  graphite
_diffrn_radiation_type           'Mo K\a'
_diffrn_radiation_wavelength     0.71073
_diffrn_reflns_av_R_equivalents  0.033
_diffrn_reflns_limit_h_max       7
_diffrn_reflns_limit_h_min       -7
_diffrn_reflns_limit_k_max       11
_diffrn_reflns_limit_k_min       -11
_diffrn_reflns_limit_l_max       27
_diffrn_reflns_limit_l_min       -27
_diffrn_reflns_number            6899
_diffrn_reflns_theta_full        27.474
_diffrn_reflns_theta_max         27.474
_diffrn_reflns_theta_min         5.131
_diffrn_standards_number         0
_exptl_absorpt_coefficient_mu    0.116
_exptl_absorpt_correction_T_max  0.99
_exptl_absorpt_correction_T_min  0.93
_exptl_absorpt_correction_type   multi-scan
_exptl_absorpt_process_details   'DENZO/SCALEPACK (Otwinowski & Minor, 1997)'
_exptl_crystal_colour            clear_pale_colourless
_exptl_crystal_density_diffrn    1.437
_exptl_crystal_density_meas      ?
_exptl_crystal_density_method    'not measured'
_exptl_crystal_description       plate
_exptl_crystal_F_000             488
_exptl_crystal_size_max          0.40
_exptl_crystal_size_mid          0.12
_exptl_crystal_size_min          0.10
_refine_diff_density_max         0.44
_refine_diff_density_min         -0.51
_refine_ls_extinction_method     None
_refine_ls_goodness_of_fit_ref   0.9596
_refine_ls_hydrogen_treatment    constr
_refine_ls_matrix_type           full
_refine_ls_number_parameters     145
_refine_ls_number_reflns         1428
_refine_ls_number_restraints     0
_refine_ls_R_factor_all          0.0719
_refine_ls_R_factor_gt           0.0650
_refine_ls_shift/su_max          0.0002511
_refine_ls_shift/su_mean         0.0000265
_refine_ls_structure_factor_coef Fsqd
_refine_ls_weighting_details
;
 Method, part 1, Chebychev polynomial, (Watkin, 1994, Prince, 1982) 
 [weight] = 1.0/[A₀*T₀(x)+A₁*T₁(x) ... +Aₙ₋₁]*Tₙ₋₁(x)] 
 where Ai are the Chebychev coefficients listed below and x= Fcalc/Fmax 
 Method = Robust Weighting (Prince, 1982) 
 W = [weight] * [1-(deltaF/6*sigmaF)²]² 
 Ai are: 
 66.1 104. 55.1 15.5 
;
_refine_ls_weighting_scheme      calc
_refine_ls_wR_factor_all         0.1851
_refine_ls_wR_factor_gt          0.1718
_refine_ls_wR_factor_ref         0.1851
_reflns_limit_h_max              7
_reflns_limit_h_min              0
_reflns_limit_k_max              11
_reflns_limit_k_min              0
_reflns_limit_l_max              27
_reflns_limit_l_min              0
_reflns_number_gt                1262
_reflns_number_total             1428
_reflns_threshold_expression     I>2.0σ(I)
_oxford_diffrn_Wilson_B_factor   2.32
_oxford_diffrn_Wilson_scale      0.98
_oxford_refine_ls_r_factor_ref   0.0719
_oxford_refine_ls_scale          0.984(12)
_oxford_reflns_number_all        1428
_oxford_reflns_threshold_expression_ref I>-3.0\s(I)
_oxford_structure_analysis_title 007jr11
_cod_data_source_file            c4cc05159a2.cif
_cod_data_source_block           26
_cod_depositor_comments
;
The following automatic conversions were performed:

'_chemical_melting_point' value 'not measured' was changed to '?' -
the value is undefined or not given.

'_atom_sites_solution_primary'
value 'Other' changed to 'other' according to the built-in table from
CIF Core dictionary named 'cif_core.dic' version 2.4.1 from
2010-06-29.

Automatic conversion script
Id: cif_fix_values 2827 2014-09-09 07:05:25Z andrius 

The following automatic conversions were performed:

'_exptl_crystal_density_meas' value 'not measured' was changed to '?'
- the value is perceived as not measured.

Automatic conversion script
Id: cif_fix_values 3008 2015-01-20 13:52:24Z robertas 
;
_cod_original_sg_symbol_H-M      'P 21 21 21 '
_cod_original_formula_sum        'C10 H15 N1 O5'
_cod_database_code               7115665
#BEGIN Tags that were not found in dictionaries:
_iucr_refine_instruction_details_constraints
;
BLOCK SCALE X'S, U'S 
RIDE C   (   2,X'S) H   (  21,X'S) H   (  22,X'S) 
RIDE C   (   3,X'S) H   (  31,X'S) 
RIDE C   (   6,X'S) H   (  61,X'S) H   (  63,X'S) H   (  62,X'S) 
RIDE C   (   7,X'S) H   (  71,X'S) H   (  72,X'S) H   (  73,X'S) 
RIDE C   (   9,X'S) H   (  91,X'S) 
RIDE C   (  10,X'S) H   ( 101,X'S) 
RIDE C   (  11,X'S) H   ( 111,X'S) 
RIDE C   (  12,X'S) H   ( 122,X'S) H   ( 121,X'S) 
RIDE N   (  16,X'S) H   ( 161,X'S) 
END                                                                             
;
_iucr_refine_instruction_details_restraints
;
NO 
REM   HREST   START (DO NOT REMOVE THIS LINE) 
REM   HREST   END (DO NOT REMOVE THIS LINE) 
END                                                                             
;
#END Tags that were not found in dictionaries
loop_
_symmetry_equiv_pos_as_xyz
x,y,z
-x+1/2,-y,z+1/2
x+1/2,-y+1/2,-z
-x,y+1/2,-z+1/2
loop_
_atom_site_label
_atom_site_type_symbol
_atom_site_fract_x
_atom_site_fract_y
_atom_site_fract_z
_atom_site_U_iso_or_equiv
_atom_site_occupancy
_atom_site_adp_type
_atom_site_refinement_flags_posn
O1 O 1.0576(4) 0.7132(3) 0.69243(10) 0.0262 1.0000 Uani .
C2 C 1.0385(6) 0.8104(3) 0.63670(15) 0.0254 1.0000 Uani .
C3 C 0.8369(5) 0.7429(3) 0.59921(13) 0.0238 1.0000 Uani .
O4 O 0.9182(4) 0.6322(2) 0.55445(10) 0.0273 1.0000 Uani .
C5 C 0.7682(6) 0.5011(3) 0.55852(12) 0.0236 1.0000 Uani .
C6 C 0.5427(7) 0.5257(4) 0.52304(15) 0.0330 1.0000 Uani .
C7 C 0.8983(6) 0.3578(4) 0.53803(15) 0.0300 1.0000 Uani .
O8 O 0.7221(4) 0.4896(2) 0.62482(8) 0.0241 1.0000 Uani .
C9 C 0.6994(5) 0.6441(3) 0.64674(13) 0.0216 1.0000 Uani .
C10 C 0.8268(5) 0.6645(3) 0.70901(13) 0.0215 1.0000 Uani .
C11 C 0.7069(5) 0.7837(4) 0.75157(12) 0.0238 1.0000 Uani .
C12 C 0.8223(6) 0.8003(4) 0.81589(14) 0.0269 1.0000 Uani .
O13 O 0.6967(5) 0.6927(3) 0.85563(10) 0.0293 1.0000 Uani .
C14 C 0.4871(6) 0.6640(3) 0.82958(15) 0.0261 1.0000 Uani .
O15 O 0.3375(5) 0.5889(3) 0.85527(12) 0.0372 1.0000 Uani .
N16 N 0.4812(5) 0.7274(3) 0.77066(11) 0.0262 1.0000 Uani .
H21 H 1.0100 0.9190 0.6462 0.0290 1.0000 Uiso R
H22 H 1.1801 0.8023 0.6117 0.0295 1.0000 Uiso R
H31 H 0.7371 0.8240 0.5814 0.0284 1.0000 Uiso R
H61 H 0.4363 0.4470 0.5347 0.0466 1.0000 Uiso R
H63 H 0.4767 0.6246 0.5324 0.0475 1.0000 Uiso R
H62 H 0.5698 0.5172 0.4780 0.0474 1.0000 Uiso R
H71 H 0.8092 0.2668 0.5457 0.0456 1.0000 Uiso R
H72 H 1.0441 0.3545 0.5591 0.0463 1.0000 Uiso R
H73 H 0.9274 0.3640 0.4934 0.0452 1.0000 Uiso R
H91 H 0.5379 0.6769 0.6499 0.0271 1.0000 Uiso R
H101 H 0.8398 0.5628 0.7307 0.0254 1.0000 Uiso R
H111 H 0.6905 0.8857 0.7298 0.0268 1.0000 Uiso R
H122 H 0.8048 0.9059 0.8300 0.0331 1.0000 Uiso R
H121 H 0.9859 0.7738 0.8148 0.0321 1.0000 Uiso R
H161 H 0.3628 0.7188 0.7465 0.0306 1.0000 Uiso R
loop_
_atom_site_aniso_label
_atom_site_aniso_U_11
_atom_site_aniso_U_22
_atom_site_aniso_U_33
_atom_site_aniso_U_23
_atom_site_aniso_U_13
_atom_site_aniso_U_12
O1 0.0186(10) 0.0390(10) 0.0210(9) 0.0016(9) -0.0004(8) 0.0010(9)
C2 0.0246(13) 0.0295(12) 0.0221(12) 0.0020(10) 0.0020(12) -0.0009(11)
C3 0.0286(14) 0.0244(11) 0.0183(11) 0.0001(9) 0.0033(12) 0.0031(11)
O4 0.0337(12) 0.0281(9) 0.0201(10) -0.0038(8) 0.0082(9) -0.0023(9)
C5 0.0272(14) 0.0307(13) 0.0127(11) 0.0001(9) 0.0008(10) -0.0004(12)
C6 0.0355(17) 0.0390(14) 0.0246(15) -0.0017(12) -0.0068(13) 0.0055(14)
C7 0.0361(17) 0.0325(13) 0.0213(13) -0.0031(10) -0.0001(13) 0.0045(13)
O8 0.0333(12) 0.0256(9) 0.0134(10) 0.0000(7) 0.0018(8) -0.0019(9)
C9 0.0206(12) 0.0258(12) 0.0182(11) -0.0007(10) -0.0012(11) 0.0009(11)
C10 0.0174(13) 0.0287(12) 0.0183(12) -0.0020(9) -0.0002(10) -0.0017(11)
C11 0.0213(14) 0.0288(12) 0.0212(13) -0.0010(10) -0.0016(11) 0.0000(12)
C12 0.0261(15) 0.0320(13) 0.0227(13) -0.0026(10) -0.0001(12) -0.0043(12)
O13 0.0315(12) 0.0360(11) 0.0203(10) 0.0005(8) -0.0034(10) -0.0066(10)
C14 0.0286(16) 0.0266(12) 0.0232(13) -0.0031(10) 0.0008(11) -0.0004(12)
O15 0.0390(13) 0.0388(12) 0.0337(12) -0.0014(10) 0.0087(11) -0.0116(12)
N16 0.0224(12) 0.0408(13) 0.0154(10) -0.0035(10) 0.0002(10) 0.0016(11)
loop_
_atom_type_symbol
_atom_type_scat_dispersion_real
_atom_type_scat_dispersion_imag
_atom_type_scat_Cromer_Mann_a1
_atom_type_scat_Cromer_Mann_b1
_atom_type_scat_Cromer_Mann_a2
_atom_type_scat_Cromer_Mann_b2
_atom_type_scat_Cromer_Mann_a3
_atom_type_scat_Cromer_Mann_b3
_atom_type_scat_Cromer_Mann_a4
_atom_type_scat_Cromer_Mann_b4
_atom_type_scat_Cromer_Mann_c
_atom_type_scat_source
C 0.0033 0.0016 2.3100 20.8439 1.0200 10.2075 1.5886 0.5687 0.8650 51.6512
0.2156 'International Tables Vol C 4.2.6.8 and 6.1.1.4'
H 0.0000 0.0000 0.4930 10.5109 0.3229 26.1257 0.1402 3.1424 0.0408 57.7998
0.0030 'International Tables Vol C 4.2.6.8 and 6.1.1.4'
O 0.0106 0.0060 3.0485 13.2771 2.2868 5.7011 1.5463 0.3239 0.8670 32.9089
0.2508 'International Tables Vol C 4.2.6.8 and 6.1.1.4'
N 0.0061 0.0033 12.2126 0.0057 3.1322 9.8933 2.0125 28.9975 1.1663 0.5826
-11.5290 'International Tables Vol C 4.2.6.8 and 6.1.1.4'
loop_
_geom_angle_atom_site_label_1
_geom_angle_atom_site_label_2
_geom_angle_atom_site_label_3
_geom_angle
_geom_angle_publ_flag
C2 O1 C10 107.3(2) yes
O1 C2 C3 105.4(2) yes
O1 C2 H21 113.4 no
C3 C2 H21 110.3 no
O1 C2 H22 109.9 no
C3 C2 H22 108.8 no
H21 C2 H22 108.9 no
C2 C3 O4 110.8(3) yes
C2 C3 C9 104.9(2) yes
O4 C3 C9 103.9(2) yes
C2 C3 H31 112.3 no
O4 C3 H31 114.0 no
C9 C3 H31 110.2 no
C3 O4 C5 106.8(2) yes
O4 C5 C6 112.2(2) yes
O4 C5 C7 109.2(3) yes
C6 C5 C7 113.2(3) yes
O4 C5 O8 103.1(2) yes
C6 C5 O8 109.9(3) yes
C7 C5 O8 108.6(2) yes
C5 C6 H61 108.9 no
C5 C6 H63 111.1 no
H61 C6 H63 109.0 no
C5 C6 H62 110.1 no
H61 C6 H62 108.0 no
H63 C6 H62 109.7 no
C5 C7 H71 110.9 no
C5 C7 H72 109.0 no
H71 C7 H72 111.7 no
C5 C7 H73 109.1 no
H71 C7 H73 107.9 no
H72 C7 H73 108.2 no
C5 O8 C9 106.03(19) yes
C3 C9 O8 104.7(2) yes
C3 C9 C10 105.2(2) yes
O8 C9 C10 110.5(2) yes
C3 C9 H91 112.1 no
O8 C9 H91 112.5 no
C10 C9 H91 111.4 no
C9 C10 O1 105.3(2) yes
C9 C10 C11 112.1(2) yes
O1 C10 C11 111.5(2) yes
C9 C10 H101 109.9 no
O1 C10 H101 107.6 no
C11 C10 H101 110.3 no
C10 C11 C12 113.4(3) yes
C10 C11 N16 110.3(2) yes
C12 C11 N16 99.7(2) yes
C10 C11 H111 110.8 no
C12 C11 H111 112.1 no
N16 C11 H111 110.0 no
C11 C12 O13 104.4(2) yes
C11 C12 H122 108.9 no
O13 C12 H122 111.6 no
C11 C12 H121 112.2 no
O13 C12 H121 110.4 no
H122 C12 H121 109.3 no
C12 O13 C14 108.8(2) yes
O13 C14 O15 123.2(3) yes
O13 C14 N16 109.0(3) yes
O15 C14 N16 127.7(3) yes
C11 N16 C14 111.7(2) yes
C11 N16 H161 125.1 no
C14 N16 H161 122.4 no
loop_
_geom_bond_atom_site_label_1
_geom_bond_atom_site_label_2
_geom_bond_distance
_geom_bond_publ_flag
O1 C2 1.459(3) yes
O1 C10 1.439(4) yes
C2 C3 1.526(4) yes
C2 H21 0.971 no
C2 H22 0.978 no
C3 O4 1.429(3) yes
C3 C9 1.543(4) yes
C3 H31 0.982 no
O4 C5 1.425(4) yes
C5 C6 1.519(5) yes
C5 C7 1.509(4) yes
C5 O8 1.443(3) yes
C6 H61 0.947 no
C6 H63 0.955 no
C6 H62 0.977 no
C7 H71 0.951 no
C7 H72 0.954 no
C7 H73 0.968 no
O8 C9 1.418(3) yes
C9 C10 1.528(4) yes
C9 H91 0.974 no
C10 C11 1.535(4) yes
C10 H101 0.995 no
C11 C12 1.532(4) yes
C11 N16 1.446(4) yes
C11 H111 0.999 no
C12 O13 1.450(4) yes
C12 H122 0.964 no
C12 H121 0.970 no
O13 C14 1.353(4) yes
C14 O15 1.209(4) yes
C14 N16 1.371(4) yes
N16 H161 0.858 no
loop_
_geom_hbond_atom_site_label_D
_geom_hbond_atom_site_label_H
_geom_hbond_atom_site_label_A
_geom_hbond_site_symmetry_A
_geom_hbond_angle_DHA
_geom_hbond_distance_DH
_geom_hbond_distance_HA
_geom_hbond_distance_DA
_geom_hbond_publ_flag
C2 H21 O15 4_656 134.63 0.971 2.481 3.238(4) yes
C11 H111 O15 4_656 161.86 0.999 2.527 3.490(4) yes
N16 H161 O1 1_455 174.78 0.858 2.104 2.960(4) yes
#BEGIN Loops that were not found in dictionaries:
loop_
_oxford_refln_omitted_index_h
_oxford_refln_omitted_index_k
_oxford_refln_omitted_index_l
_oxford_refln_omitted_flag
1 3 0 x
#END Loops that were not found in dictionaries
