#------------------------------------------------------------------------------
#$Date: 2016-02-16 03:10:39 +0200 (Tue, 16 Feb 2016) $
#$Revision: 176453 $
#$URL: svn://www.crystallography.net/cod/cif/7/21/27/7212752.cif $
#------------------------------------------------------------------------------
#
# This file is available in the Crystallography Open Database (COD),
# http://www.crystallography.net/
#
# All data on this site have been placed in the public domain by the
# contributors.
#
data_7212752
loop_
_publ_author_name
'Monfared, Hassan Hosseini'
'Chamayou, Anne-Christine'
'Khajeh, Soliman'
'Janiak, Christoph'
_publ_section_title
;
 Can a small amount of crystal solvent be overlooked or have no structural
 effect? Isomorphous non-stoichiometric hydrates (pseudo-polymorphs): the
 case of salicylaldehyde thiosemicarbazone
;
_journal_issue                   11
_journal_name_full               CrystEngComm
_journal_page_first              3526
_journal_paper_doi               10.1039/c0ce00041h
_journal_volume                  12
_journal_year                    2010
_chemical_formula_moiety         'C8 H9 N3 O S, 0.095(H2 O)'
_chemical_formula_sum            'C8 H9.19 N3 O1.1 S'
_chemical_formula_weight         196.95
_chemical_name_systematic
;
Salicylaldehyde thiosemicarbazone 0.17hydrate;
(E)-2-(2-hydroxybenzylidene)hydrazinecarbothioamide 0.095hydrate
;
_space_group_IT_number           15
_symmetry_cell_setting           monoclinic
_symmetry_space_group_name_Hall  '-C 2yc'
_symmetry_space_group_name_H-M   'C 1 2/c 1'
_atom_sites_solution_hydrogens   geom
_atom_sites_solution_primary     direct
_atom_sites_solution_secondary   difmap
_audit_creation_method           SHELXL-97
_cell_angle_alpha                90.00
_cell_angle_beta                 115.781(2)
_cell_angle_gamma                90.00
_cell_formula_units_Z            8
_cell_length_a                   13.9737(4)
_cell_length_b                   14.2331(4)
_cell_length_c                   10.4655(2)
_cell_measurement_reflns_used    1464
_cell_measurement_temperature    203(2)
_cell_measurement_theta_max      25.38
_cell_measurement_theta_min      2.51
_cell_volume                     1874.29(9)
_computing_cell_refinement       'SAINT (Bruker, 2006)'
_computing_data_collection       'APEX2 (Bruker, 2006)'
_computing_data_reduction        SAINT
_computing_molecular_graphics    'DIAMOND (Crystal Impact, 2009)'
_computing_structure_refinement  'SHELXL-97 (Sheldrick, 2008)'
_computing_structure_solution    'SHELXS-97 (Sheldrick, 2008)'
_diffrn_ambient_temperature      203(2)
_diffrn_measured_fraction_theta_full 0.998
_diffrn_measured_fraction_theta_max 0.998
_diffrn_measurement_device_type  'Bruker APEXII CCD area detector'
_diffrn_measurement_method       'ω scans'
_diffrn_radiation_monochromator  graphite
_diffrn_radiation_source         'fine-focus sealed tube'
_diffrn_radiation_type           MoK\a
_diffrn_radiation_wavelength     0.71073
_diffrn_reflns_av_R_equivalents  0.0372
_diffrn_reflns_av_sigmaI/netI    0.0257
_diffrn_reflns_limit_h_max       17
_diffrn_reflns_limit_h_min       -17
_diffrn_reflns_limit_k_max       17
_diffrn_reflns_limit_k_min       -16
_diffrn_reflns_limit_l_max       13
_diffrn_reflns_limit_l_min       -13
_diffrn_reflns_number            10068
_diffrn_reflns_theta_full        26.59
_diffrn_reflns_theta_max         26.59
_diffrn_reflns_theta_min         2.16
_exptl_absorpt_coefficient_mu    0.309
_exptl_absorpt_correction_T_max  0.9884
_exptl_absorpt_correction_T_min  0.9089
_exptl_absorpt_correction_type   multi-scan
_exptl_absorpt_process_details   '(SADABS; Sheldrick, 1996)'
_exptl_crystal_colour            colourless
_exptl_crystal_density_diffrn    1.396
_exptl_crystal_density_method    'not measured'
_exptl_crystal_description       plate
_exptl_crystal_F_000             824
_exptl_crystal_size_max          0.31
_exptl_crystal_size_mid          0.11
_exptl_crystal_size_min          0.04
_refine_diff_density_max         0.320
_refine_diff_density_min         -0.457
_refine_diff_density_rms         0.042
_refine_ls_extinction_method     none
_refine_ls_goodness_of_fit_ref   1.058
_refine_ls_hydrogen_treatment    mixed
_refine_ls_matrix_type           full
_refine_ls_number_parameters     139
_refine_ls_number_reflns         1968
_refine_ls_number_restraints     1
_refine_ls_restrained_S_all      1.057
_refine_ls_R_factor_all          0.0568
_refine_ls_R_factor_gt           0.0391
_refine_ls_shift/su_max          0.000
_refine_ls_shift/su_mean         0.000
_refine_ls_structure_factor_coef Fsqd
_refine_ls_weighting_details
'calc w=1/[σ²(Fo²)+(0.0416P)²+1.4139P] where P=(Fo²+2Fc²)/3'
_refine_ls_weighting_scheme      calc
_refine_ls_wR_factor_gt          0.0932
_refine_ls_wR_factor_ref         0.1028
_reflns_number_gt                1495
_reflns_number_total             1968
_reflns_threshold_expression     >2sigma(I)
_cod_data_source_file            c0ce00041h.txt
_cod_data_source_block           sk64_2fr
_cod_original_cell_volume        1874.29(8)
_cod_original_sg_symbol_H-M      'C 2/c'
_cod_original_formula_sum        'C8 H9.19 N3 O1.10 S'
_cod_database_code               7212752
loop_
_symmetry_equiv_pos_as_xyz
'x, y, z'
'-x, y, -z+1/2'
'x+1/2, y+1/2, z'
'-x+1/2, y+1/2, -z+1/2'
'-x, -y, -z'
'x, -y, z-1/2'
'-x+1/2, -y+1/2, -z'
'x+1/2, -y+1/2, z-1/2'
loop_
_atom_site_label
_atom_site_type_symbol
_atom_site_fract_x
_atom_site_fract_y
_atom_site_fract_z
_atom_site_U_iso_or_equiv
_atom_site_adp_type
_atom_site_occupancy
_atom_site_symmetry_multiplicity
_atom_site_calc_flag
_atom_site_refinement_flags
S S 0.20175(6) 0.39292(4) -0.08238(6) 0.0591(2) Uani 1 1 d .
O1 O 0.09598(12) 0.36155(10) 0.43341(16) 0.0468(4) Uani 1 1 d .
H1 H 0.115(2) 0.3640(18) 0.364(3) 0.070 Uiso 1 1 d .
N1 N 0.15175(11) 0.29988(11) 0.23577(15) 0.0336(4) Uani 1 1 d .
N2 N 0.17861(13) 0.30685(12) 0.12369(16) 0.0378(4) Uani 1 1 d .
H2N H 0.2063(17) 0.2558(17) 0.101(2) 0.057 Uiso 1 1 d .
N3 N 0.13775(18) 0.46354(14) 0.1011(2) 0.0557(5) Uani 1 1 d .
H3A H 0.121(2) 0.460(2) 0.171(3) 0.083 Uiso 1 1 d .
H3B H 0.126(2) 0.516(2) 0.055(3) 0.083 Uiso 1 1 d .
C1 C 0.17050(16) 0.38902(14) 0.0564(2) 0.0390(4) Uani 1 1 d .
C2 C 0.15307(14) 0.21682(13) 0.28382(18) 0.0339(4) Uani 1 1 d .
H2 H 0.1717 0.1661 0.2416 0.041 Uiso 1 1 calc R
C3 C 0.12677(13) 0.19844(13) 0.40141(18) 0.0332(4) Uani 1 1 d .
C4 C 0.12969(16) 0.10595(15) 0.4475(2) 0.0435(5) Uani 1 1 d .
H4 H 0.1481 0.0573 0.4016 0.052 Uiso 1 1 calc R
C5 C 0.10606(17) 0.08466(18) 0.5593(2) 0.0543(6) Uani 1 1 d .
H5 H 0.1089 0.0222 0.5899 0.065 Uiso 1 1 calc R
C6 C 0.07810(17) 0.15630(19) 0.6259(2) 0.0545(6) Uani 1 1 d .
H6 H 0.0615 0.1420 0.7016 0.065 Uiso 1 1 calc R
C7 C 0.07423(15) 0.24875(17) 0.5828(2) 0.0471(5) Uani 1 1 d .
H7 H 0.0551 0.2968 0.6289 0.057 Uiso 1 1 calc R
C8 C 0.09880(14) 0.26991(14) 0.47080(18) 0.0352(4) Uani 1 1 d .
O2 O 0.0000 0.5110(7) 0.2500 0.043(3) Uani 0.190(6) 2 d SPD
H2A H -0.053(8) 0.554(7) 0.202(12) 0.065 Uiso 0.190(6) 1 d PD
loop_
_atom_site_aniso_label
_atom_site_aniso_U_11
_atom_site_aniso_U_22
_atom_site_aniso_U_33
_atom_site_aniso_U_23
_atom_site_aniso_U_13
_atom_site_aniso_U_12
S 0.1039(5) 0.0429(3) 0.0583(4) -0.0043(3) 0.0614(4) -0.0071(3)
O1 0.0593(9) 0.0418(8) 0.0517(8) -0.0091(7) 0.0356(7) -0.0020(7)
N1 0.0344(8) 0.0398(9) 0.0300(7) -0.0016(6) 0.0171(6) -0.0002(7)
N2 0.0494(10) 0.0375(9) 0.0358(8) -0.0028(7) 0.0272(8) 0.0001(7)
N3 0.0894(15) 0.0430(11) 0.0586(12) 0.0138(9) 0.0545(11) 0.0176(10)
C1 0.0442(11) 0.0399(11) 0.0383(10) -0.0042(8) 0.0228(9) -0.0043(9)
C2 0.0364(10) 0.0350(10) 0.0327(9) -0.0041(7) 0.0173(8) -0.0010(8)
C3 0.0281(9) 0.0404(10) 0.0322(9) -0.0013(8) 0.0140(7) -0.0043(8)
C4 0.0446(11) 0.0435(12) 0.0450(11) 0.0033(9) 0.0221(9) -0.0014(9)
C5 0.0542(13) 0.0584(15) 0.0568(13) 0.0157(11) 0.0301(11) -0.0037(11)
C6 0.0436(12) 0.0835(18) 0.0473(12) 0.0101(12) 0.0297(10) -0.0038(11)
C7 0.0378(11) 0.0681(15) 0.0425(11) -0.0059(10) 0.0239(9) -0.0023(10)
C8 0.0277(9) 0.0447(11) 0.0344(9) -0.0030(8) 0.0146(8) -0.0025(8)
O2 0.057(7) 0.040(7) 0.039(6) 0.000 0.027(5) 0.000
loop_
_atom_type_symbol
_atom_type_description
_atom_type_scat_dispersion_real
_atom_type_scat_dispersion_imag
_atom_type_scat_source
C C 0.0033 0.0016 'International Tables Vol C Tables 4.2.6.8 and 6.1.1.4'
H H 0.0000 0.0000 'International Tables Vol C Tables 4.2.6.8 and 6.1.1.4'
O O 0.0106 0.0060 'International Tables Vol C Tables 4.2.6.8 and 6.1.1.4'
N N 0.0061 0.0033 'International Tables Vol C Tables 4.2.6.8 and 6.1.1.4'
S S 0.1246 0.1234 'International Tables Vol C Tables 4.2.6.8 and 6.1.1.4'
loop_
_geom_angle_atom_site_label_1
_geom_angle_atom_site_label_2
_geom_angle_atom_site_label_3
_geom_angle
C8 O1 H1 107.2(17)
C2 N1 N2 115.87(15)
C1 N2 N1 121.00(16)
C1 N2 H2N 120.6(14)
N1 N2 H2N 118.3(14)
C1 N3 H3A 121.6(19)
C1 N3 H3B 120.0(19)
H3A N3 H3B 118(3)
N3 C1 N2 118.49(17)
N3 C1 S 122.52(16)
N2 C1 S 118.98(15)
N1 C2 C3 122.18(16)
N1 C2 H2 118.9
C3 C2 H2 118.9
C4 C3 C8 118.59(17)
C4 C3 C2 118.82(17)
C8 C3 C2 122.59(17)
C5 C4 C3 121.2(2)
C5 C4 H4 119.4
C3 C4 H4 119.4
C4 C5 C6 119.3(2)
C4 C5 H5 120.4
C6 C5 H5 120.4
C5 C6 C7 121.07(19)
C5 C6 H6 119.5
C7 C6 H6 119.5
C6 C7 C8 119.4(2)
C6 C7 H7 120.3
C8 C7 H7 120.3
O1 C8 C7 117.67(18)
O1 C8 C3 121.88(16)
C7 C8 C3 120.44(19)
loop_
_geom_bond_atom_site_label_1
_geom_bond_atom_site_label_2
_geom_bond_distance
S C1 1.6896(19)
O1 C8 1.357(2)
O1 H1 0.88(3)
N1 C2 1.282(2)
N1 N2 1.382(2)
N2 C1 1.344(2)
N2 H2N 0.90(2)
N3 C1 1.319(3)
N3 H3A 0.86(3)
N3 H3B 0.86(3)
C2 C3 1.453(2)
C2 H2 0.9400
C3 C4 1.396(3)
C3 C8 1.401(3)
C4 C5 1.381(3)
C4 H4 0.9400
C5 C6 1.383(3)
C5 H5 0.9400
C6 C7 1.384(3)
C6 H6 0.9400
C7 C8 1.390(3)
C7 H7 0.9400
O2 H2A 0.92(5)
loop_
_geom_hbond_atom_site_label_D
_geom_hbond_atom_site_label_H
_geom_hbond_atom_site_label_A
_geom_hbond_distance_DH
_geom_hbond_distance_HA
_geom_hbond_distance_DA
_geom_hbond_angle_DHA
_geom_hbond_site_symmetry_A
O1 H1 N1 0.88(3) 1.87(3) 2.6567(19) 148(2) .
N2 H2N S 0.90(2) 2.53(2) 3.4199(18) 170.1(19) 7
N3 H3A O2 0.86(3) 2.30(3) 3.033(3) 144(2) .
N3 H3B O1 0.86(3) 2.09(3) 2.954(2) 177(3) 6_565
O2 H2A S 0.92(5) 2.05(6) 2.931(5) 159(11) 5_565
loop_
_geom_torsion_atom_site_label_1
_geom_torsion_atom_site_label_2
_geom_torsion_atom_site_label_3
_geom_torsion_atom_site_label_4
_geom_torsion
C2 N1 N2 C1 173.83(17)
N1 N2 C1 N3 1.0(3)
N1 N2 C1 S -178.62(13)
N2 N1 C2 C3 179.95(15)
N1 C2 C3 C4 179.81(17)
N1 C2 C3 C8 -0.4(3)
C8 C3 C4 C5 -0.2(3)
C2 C3 C4 C5 179.59(18)
C3 C4 C5 C6 0.6(3)
C4 C5 C6 C7 -0.5(3)
C5 C6 C7 C8 0.0(3)
C6 C7 C8 O1 -178.81(18)
C6 C7 C8 C3 0.3(3)
C4 C3 C8 O1 178.89(17)
C2 C3 C8 O1 -0.9(3)
C4 C3 C8 C7 -0.2(3)
C2 C3 C8 C7 179.96(17)
