#------------------------------------------------------------------------------
#$Date: 2016-03-26 22:33:39 +0200 (Sat, 26 Mar 2016) $
#$Revision: 180510 $
#$URL: svn://www.crystallography.net/cod/cif/7/21/79/7217977.cif $
#------------------------------------------------------------------------------
#
# This file is available in the Crystallography Open Database (COD),
# http://www.crystallography.net/
#
# All data on this site have been placed in the public domain by the
# contributors.
#
data_7217977
loop_
_publ_author_name
'Allan, David R.'
'Coles, Simon J.'
'George, Kathryn'
'Jura, Marek'
'Levason, William'
'Reid, Gillian'
'Wilson, Claire'
'Zhang, Wenjian'
_publ_section_title
;
 Exploring secondary bonding in p-block chemistry -- an experimental study
 of [GeX2{o-C6H4(PMe2)2}] using variable pressure single crystal X-ray
 diffraction
;
_journal_issue                   35
_journal_name_full               CrystEngComm
_journal_page_first              8169
_journal_paper_doi               10.1039/C4CE00329B
_journal_volume                  16
_journal_year                    2014
_chemical_formula_moiety         'C10 H16 Cl2 Ge P2'
_chemical_formula_sum            'C10 H16 Cl2 Ge P2'
_chemical_formula_weight         341.66
_chemical_name_systematic
;
Dichlorido(1,2-bis(dimethylphosphino)benzene)germanium(II)
;
_space_group_crystal_system      monoclinic
_space_group_IT_number           15
_space_group_name_Hall           '-C 2yc'
_space_group_name_H-M_alt        'C 1 2/c 1'
_symmetry_space_group_name_Hall  '-C 2yc'
_symmetry_space_group_name_H-M   'C 1 2/c 1'
_atom_sites_solution_hydrogens   geom
_atom_sites_solution_primary     direct
_atom_sites_solution_secondary   difmap
_audit_creation_date             2012-11-26
_audit_creation_method
;
  Olex2 1.2
  (compiled Nov  5 2012 18:25:38, GUI svn.r4372)
;
_cell_angle_alpha                90.00
_cell_angle_beta                 110.29(8)
_cell_angle_gamma                90.00
_cell_formula_units_Z            8
_cell_length_a                   27.99(4)
_cell_length_b                   7.325(10)
_cell_length_c                   13.88(2)
_cell_measurement_pressure       1100000
_cell_measurement_reflns_used    845
_cell_measurement_temperature    293(2)
_cell_measurement_theta_max      18.5
_cell_measurement_theta_min      2.0
_cell_volume                     2669(7)
_computing_cell_refinement
;
CrystalClear-SM Expert 2.0 r5 (Rigaku, 2011)
;
_computing_data_collection
;
CrystalClear-SM Expert 2.0 r5 (Rigaku, 2011)
;
_computing_data_reduction
;
CrystalClear-SM Expert 2.0 r5 (Rigaku, 2011)
;
_computing_molecular_graphics
;
O. V. Dolomanov, L. J. Bourhis, R. J. Gildea, J. A. K. Howard and H. Puschmann,
OLEX2: a complete structure solution, refinement and analysis program.
J. Appl. Cryst. (2009). 42, 339-341.
;
_computing_publication_material
;
O. V. Dolomanov, L. J. Bourhis, R. J. Gildea, J. A. K. Howard and H. Puschmann,
OLEX2: a complete structure solution, refinement and analysis program.
J. Appl. Cryst. (2009). 42, 339-341.
;
_computing_structure_refinement
;
SHELXL, G.M. Sheldrick, Acta Cryst.
(2008). A64, 112-122
;
_computing_structure_solution    'SHELXS-97 (Sheldrick, 1990)'
_diffrn_ambient_pressure         1100000
_diffrn_ambient_temperature      293(2)
_diffrn_detector                 'CCD plate'
_diffrn_detector_area_resol_mean 28.5714
_diffrn_detector_type            'Rigaku Saturn724+ (2x2 bin mode)'
_diffrn_measured_fraction_theta_full 0.656
_diffrn_measured_fraction_theta_max 0.656
_diffrn_measurement_device       'four-circle κ goniometer'
_diffrn_measurement_device_type  CrystalLogic
_diffrn_measurement_method       'profile data from ω-scans'
_diffrn_measurement_specimen_support 'Diamond Anvil Cell'
_diffrn_radiation_collimation    'Confocal mirrors'
_diffrn_radiation_monochromator  'double crystal silicon'
_diffrn_radiation_source         synchrotron
_diffrn_radiation_type           Synchrotron
_diffrn_radiation_wavelength     0.48590
_diffrn_reflns_av_R_equivalents  0.1417
_diffrn_reflns_av_unetI/netI     0.1431
_diffrn_reflns_limit_h_max       31
_diffrn_reflns_limit_h_min       -31
_diffrn_reflns_limit_k_max       9
_diffrn_reflns_limit_k_min       -9
_diffrn_reflns_limit_l_max       18
_diffrn_reflns_limit_l_min       -18
_diffrn_reflns_number            8543
_diffrn_reflns_theta_full        18.53
_diffrn_reflns_theta_max         18.53
_diffrn_reflns_theta_min         1.97
_diffrn_source_type              'DLS beamline I19'
_exptl_absorpt_coefficient_mu    1.017
_exptl_absorpt_correction_type   none
_exptl_crystal_colour            colourless
_exptl_crystal_density_diffrn    1.700
_exptl_crystal_density_method    'not measured'
_exptl_crystal_description       block
_exptl_crystal_F_000             1376
_exptl_crystal_size_max          0.1
_exptl_crystal_size_mid          0.1
_exptl_crystal_size_min          0.1
_refine_diff_density_max         0.833
_refine_diff_density_min         -0.927
_refine_diff_density_rms         0.226
_refine_ls_extinction_method     none
_refine_ls_goodness_of_fit_ref   1.092
_refine_ls_hydrogen_treatment    constr
_refine_ls_matrix_type           full
_refine_ls_number_parameters     78
_refine_ls_number_reflns         2051
_refine_ls_number_restraints     0
_refine_ls_restrained_S_all      1.092
_refine_ls_R_factor_all          0.1813
_refine_ls_R_factor_gt           0.1238
_refine_ls_shift/su_max          0.000
_refine_ls_shift/su_mean         0.000
_refine_ls_structure_factor_coef Fsqd
_refine_ls_weighting_details
'calc w=1/[σ²(Fo²)+(0.0000P)²+206.5763P] where P=(Fo²+2Fc²)/3'
_refine_ls_weighting_scheme      calc
_refine_ls_wR_factor_gt          0.2272
_refine_ls_wR_factor_ref         0.2733
_reflns_number_gt                1384
_reflns_number_total             2051
_reflns_threshold_expression     >2σ(I)
_cod_data_source_file            c4ce00329b2.cif
_cod_data_source_block           gecl2diphos6
_cod_database_code               7217977
#BEGIN Tags that were not found in dictionaries:
_olex2_refinement_description
;
1. Fixed Uiso
 At 1.2 times of:
  H4 of C4, H5 of C5, H6 of C6, H7 of C7
 At 1.5 times of:
  {H2A,H2B,H2C} of C2, {H1A,H1B,H1C} of C1, {H9A,H9B,H9C} of C9, {H10A,H10B,
  H10C} of C10
2.a Aromatic/amide H refined with riding coordinates:
 C4(H4), C5(H5), C6(H6), C7(H7)
2.b Fitted hexagon refined as free rotating group:
 C3(C4,C5,C6,C7,C8)
2.c Idealised Me refined as rotating group:
 C1(H1A,H1B,H1C), C2(H2A,H2B,H2C), C9(H9A,H9B,H9C), C10(H10A,H10B,H10C)
;
#END Tags that were not found in dictionaries
loop_
_space_group_symop_id
_space_group_symop_operation_xyz
1 'x, y, z'
2 '-x, y, -z+1/2'
3 'x+1/2, y+1/2, z'
4 '-x+1/2, y+1/2, -z+1/2'
5 '-x, -y, -z'
6 'x, -y, z-1/2'
7 '-x+1/2, -y+1/2, -z'
8 'x+1/2, -y+1/2, z-1/2'
loop_
_atom_site_label
_atom_site_type_symbol
_atom_site_fract_x
_atom_site_fract_y
_atom_site_fract_z
_atom_site_U_iso_or_equiv
_atom_site_adp_type
_atom_site_occupancy
_atom_site_symmetry_multiplicity
_atom_site_calc_flag
_atom_site_refinement_flags
Ge1 Ge 0.55623(9) 0.6209(2) 0.71998(14) 0.0309(7) Uani 1 1 d .
Cl1 Cl 0.4845(2) 0.8013(5) 0.5962(4) 0.0356(15) Uani 1 1 d .
Cl2 Cl 0.6483(2) 0.4968(5) 0.8346(4) 0.0348(15) Uani 1 1 d .
P1 P 0.5982(2) 0.6143(5) 0.5902(3) 0.0247(14) Uani 1 1 d .
P2 P 0.6038(2) 0.9057(5) 0.7606(3) 0.0282(15) Uani 1 1 d .
C1 C 0.6272(9) 0.398(2) 0.5789(14) 0.033(4) Uiso 1 1 d .
H1A H 0.6532 0.3685 0.6432 0.050 Uiso 1 1 calc R
H1B H 0.6419 0.4060 0.5261 0.050 Uiso 1 1 calc R
H1C H 0.6017 0.3038 0.5615 0.050 Uiso 1 1 calc R
C2 C 0.5576(9) 0.678(2) 0.4609(14) 0.036(4) Uiso 1 1 d .
H2A H 0.5283 0.5998 0.4387 0.054 Uiso 1 1 calc R
H2B H 0.5763 0.6664 0.4149 0.054 Uiso 1 1 calc R
H2C H 0.5467 0.8026 0.4610 0.054 Uiso 1 1 calc R
C3 C 0.6502(4) 0.7761(12) 0.6281(8) 0.025(3) Uiso 1 1 d G
C4 C 0.6880(5) 0.7702(11) 0.5846(7) 0.028(3) Uiso 1 1 d G
H4 H 0.6866 0.6830 0.5349 0.034 Uiso 1 1 calc R
C5 C 0.7280(4) 0.8945(13) 0.6153(8) 0.035(4) Uiso 1 1 d G
H5 H 0.7533 0.8905 0.5862 0.042 Uiso 1 1 calc R
C6 C 0.7301(4) 1.0247(13) 0.6895(8) 0.043(4) Uiso 1 1 d G
H6 H 0.7569 1.1078 0.7101 0.052 Uiso 1 1 calc R
C7 C 0.6923(5) 1.0306(11) 0.7330(7) 0.028(3) Uiso 1 1 d G
H7 H 0.6937 1.1177 0.7827 0.033 Uiso 1 1 calc R
C8 C 0.6523(4) 0.9063(12) 0.7023(8) 0.025(3) Uiso 1 1 d G
C9 C 0.5653(9) 1.110(2) 0.7138(14) 0.033(4) Uiso 1 1 d .
H9A H 0.5508 1.1057 0.6402 0.050 Uiso 1 1 calc R
H9B H 0.5863 1.2162 0.7347 0.050 Uiso 1 1 calc R
H9C H 0.5384 1.1142 0.7420 0.050 Uiso 1 1 calc R
C10 C 0.6386(10) 0.943(2) 0.8935(15) 0.040(4) Uiso 1 1 d .
H10A H 0.6577 1.0543 0.9016 0.060 Uiso 1 1 calc R
H10B H 0.6615 0.8429 0.9201 0.060 Uiso 1 1 calc R
H10C H 0.6153 0.9518 0.9303 0.060 Uiso 1 1 calc R
loop_
_atom_site_aniso_label
_atom_site_aniso_U_11
_atom_site_aniso_U_22
_atom_site_aniso_U_33
_atom_site_aniso_U_23
_atom_site_aniso_U_13
_atom_site_aniso_U_12
Ge1 0.041(2) 0.0217(8) 0.0327(11) -0.0013(6) 0.0158(14) -0.0032(7)
Cl1 0.021(5) 0.036(2) 0.046(3) 0.0027(17) 0.007(4) -0.0007(17)
Cl2 0.035(5) 0.036(2) 0.034(3) 0.0036(16) 0.012(3) 0.0053(18)
P1 0.030(5) 0.0206(18) 0.022(2) -0.0012(14) 0.007(3) -0.0023(16)
P2 0.037(5) 0.0205(18) 0.029(3) -0.0058(14) 0.014(3) -0.0037(16)
loop_
_atom_type_symbol
_atom_type_description
_atom_type_scat_dispersion_real
_atom_type_scat_dispersion_imag
_atom_type_scat_source
C C 0.0007 0.0007 'International Tables Vol C Tables 4.2.6.8 and 6.1.1.4'
H H 0.0000 0.0000 'International Tables Vol C Tables 4.2.6.8 and 6.1.1.4'
Cl Cl 0.0777 0.0747 'International Tables Vol C Tables 4.2.6.8 and 6.1.1.4'
Ge Ge 0.3342 0.9482 'International Tables Vol C Tables 4.2.6.8 and 6.1.1.4'
P P 0.0517 0.0444 'International Tables Vol C Tables 4.2.6.8 and 6.1.1.4'
loop_
_geom_angle_atom_site_label_1
_geom_angle_atom_site_label_2
_geom_angle_atom_site_label_3
_geom_angle
Cl1 Ge1 Cl2 163.84(15)
P1 Ge1 Cl1 88.94(19)
P1 Ge1 Cl2 79.84(19)
P2 Ge1 Cl1 87.2(2)
P2 Ge1 Cl2 79.4(2)
P2 Ge1 P1 79.94(15)
C1 P1 Ge1 114.8(5)
C1 P1 C2 106.6(8)
C2 P1 Ge1 114.9(7)
C3 P1 Ge1 108.2(3)
C3 P1 C1 105.1(8)
C3 P1 C2 106.4(7)
C8 P2 Ge1 109.5(3)
C8 P2 C9 106.4(6)
C9 P2 Ge1 114.2(7)
C10 P2 Ge1 115.4(6)
C10 P2 C8 103.7(8)
C10 P2 C9 106.6(8)
P1 C1 H1A 109.5
P1 C1 H1B 109.5
P1 C1 H1C 109.5
H1A C1 H1B 109.5
H1A C1 H1C 109.5
H1B C1 H1C 109.5
P1 C2 H2A 109.5
P1 C2 H2B 109.5
P1 C2 H2C 109.5
H2A C2 H2B 109.5
H2A C2 H2C 109.5
H2B C2 H2C 109.5
C4 C3 P1 120.7(5)
C4 C3 C8 120.0
C8 C3 P1 119.3(5)
C3 C4 H4 120.0
C3 C4 C5 120.0
C5 C4 H4 120.0
C4 C5 H5 120.0
C4 C5 C6 120.0
C6 C5 H5 120.0
C5 C6 H6 120.0
C5 C6 C7 120.0
C7 C6 H6 120.0
C6 C7 H7 120.0
C8 C7 C6 120.0
C8 C7 H7 120.0
C3 C8 P2 119.0(5)
C7 C8 P2 121.0(5)
C7 C8 C3 120.0
P2 C9 H9A 109.5
P2 C9 H9B 109.5
P2 C9 H9C 109.5
H9A C9 H9B 109.5
H9A C9 H9C 109.5
H9B C9 H9C 109.5
P2 C10 H10A 109.5
P2 C10 H10B 109.5
P2 C10 H10C 109.5
H10A C10 H10B 109.5
H10A C10 H10C 109.5
H10B C10 H10C 109.5
loop_
_geom_bond_atom_site_label_1
_geom_bond_atom_site_label_2
_geom_bond_distance
Ge1 Cl1 2.518(7)
Ge1 Cl2 2.674(7)
Ge1 P1 2.470(5)
Ge1 P2 2.434(5)
P1 C1 1.813(16)
P1 C2 1.82(2)
P1 C3 1.807(10)
P2 C8 1.806(9)
P2 C9 1.825(18)
P2 C10 1.78(2)
C1 H1A 0.9600
C1 H1B 0.9600
C1 H1C 0.9600
C2 H2A 0.9600
C2 H2B 0.9600
C2 H2C 0.9600
C3 C4 1.3900
C3 C8 1.3900
C4 H4 0.9300
C4 C5 1.3900
C5 H5 0.9300
C5 C6 1.3900
C6 H6 0.9300
C6 C7 1.3900
C7 H7 0.9300
C7 C8 1.3900
C9 H9A 0.9600
C9 H9B 0.9600
C9 H9C 0.9600
C10 H10A 0.9600
C10 H10B 0.9600
C10 H10C 0.9600
loop_
_geom_torsion_atom_site_label_1
_geom_torsion_atom_site_label_2
_geom_torsion_atom_site_label_3
_geom_torsion_atom_site_label_4
_geom_torsion
Ge1 P1 C3 C4 164.0(5)
Ge1 P1 C3 C8 -15.4(7)
Ge1 P2 C8 C3 13.5(7)
Ge1 P2 C8 C7 -164.4(5)
Cl1 Ge1 P1 C1 -138.8(9)
Cl1 Ge1 P1 C2 -14.6(6)
Cl1 Ge1 P1 C3 104.1(5)
Cl1 Ge1 P2 C8 -105.7(5)
Cl1 Ge1 P2 C9 13.5(5)
Cl1 Ge1 P2 C10 137.7(8)
Cl2 Ge1 P1 C1 52.9(9)
Cl2 Ge1 P1 C2 177.1(6)
Cl2 Ge1 P1 C3 -64.2(5)
Cl2 Ge1 P2 C8 65.1(5)
Cl2 Ge1 P2 C9 -175.7(6)
Cl2 Ge1 P2 C10 -51.5(8)
P1 Ge1 P2 C8 -16.3(5)
P1 Ge1 P2 C9 102.9(6)
P1 Ge1 P2 C10 -132.9(8)
P1 C3 C4 C5 -179.4(9)
P1 C3 C8 P2 1.5(8)
P1 C3 C8 C7 179.4(9)
P2 Ge1 P1 C1 133.8(9)
P2 Ge1 P1 C2 -102.0(6)
P2 Ge1 P1 C3 16.7(5)
C1 P1 C3 C4 40.8(9)
C1 P1 C3 C8 -138.6(7)
C2 P1 C3 C4 -72.0(9)
C2 P1 C3 C8 108.6(8)
C3 C4 C5 C6 0.0
C4 C3 C8 P2 -177.9(8)
C4 C3 C8 C7 0.0
C4 C5 C6 C7 0.0
C5 C6 C7 C8 0.0
C6 C7 C8 P2 177.8(8)
C6 C7 C8 C3 0.0
C8 C3 C4 C5 0.0
C9 P2 C8 C3 -110.4(9)
C9 P2 C8 C7 71.7(10)
C10 P2 C8 C3 137.3(8)
C10 P2 C8 C7 -40.6(9)
